﻿BEGIN:VCALENDAR
VERSION:2.0
PRODID:-//Environmental Education of New Mexico - ECPv6.13.2.1//NONSGML v1.0//EN
CALSCALE:GREGORIAN
METHOD:PUBLISH
X-ORIGINAL-URL:https://eenm.org
X-WR-CALDESC:Events for Environmental Education of New Mexico
REFRESH-INTERVAL;VALUE=DURATION:PT1H
X-Robots-Tag:noindex
X-PUBLISHED-TTL:PT1H
BEGIN:VTIMEZONE
TZID:America/Denver
BEGIN:DAYLIGHT
TZOFFSETFROM:-0700
TZOFFSETTO:-0600
TZNAME:MDT
DTSTART:20260308T090000
END:DAYLIGHT
BEGIN:STANDARD
TZOFFSETFROM:-0600
TZOFFSETTO:-0700
TZNAME:MST
DTSTART:20261101T080000
END:STANDARD
END:VTIMEZONE
BEGIN:VEVENT
DTSTART;TZID=America/Denver:20260418T100000
DTEND;TZID=America/Denver:20260418T120000
DTSTAMP:20260419T151740
CREATED:20260331T212439Z
LAST-MODIFIED:20260331T212543Z
UID:6199-1776506400-1776513600@eenm.org
SUMMARY:Flow of Wildlife Mural Installation/Opening (Community Event)
DESCRIPTION:Flow of Wildlife by Jessi Cross\nMural Installation/Opening\nSaturday\, April 18th\, 10am-12pm\nRailyard Park Children’s Play Area\n \nJoin the Railyard Park Conservancy for a free\, family-friendly event celebrating the installation of Jessi Cross’ large-scale mural\, Flow of Wildlife\, in the park’s Children’s Play Area.\n\n \n• Drinks • Snacks • Sand Play Activities\n• Music and Sing Along with Queen Bee Music Association
URL:https://eenm.org/event/flow-of-wildlife-mural-installation-opening-community-event/
LOCATION:Railyard Park\, 740 Cerrillos Rd.\, Santa Fe\, NM\, 87505\, United States
CATEGORIES:Celebration
ATTACH;FMTTYPE=application/pdf:https://eenm.org/wp-content/uploads/2026/03/Flow-of-Wildlife-Opening-Flyer.pdf
END:VEVENT
END:VCALENDAR