﻿BEGIN:VCALENDAR
VERSION:2.0
PRODID:-//Environmental Education of New Mexico - ECPv6.13.2.1//NONSGML v1.0//EN
CALSCALE:GREGORIAN
METHOD:PUBLISH
X-ORIGINAL-URL:https://eenm.org
X-WR-CALDESC:Events for Environmental Education of New Mexico
REFRESH-INTERVAL;VALUE=DURATION:PT1H
X-Robots-Tag:noindex
X-PUBLISHED-TTL:PT1H
BEGIN:VTIMEZONE
TZID:America/Denver
BEGIN:DAYLIGHT
TZOFFSETFROM:-0700
TZOFFSETTO:-0600
TZNAME:MDT
DTSTART:20260308T090000
END:DAYLIGHT
BEGIN:STANDARD
TZOFFSETFROM:-0600
TZOFFSETTO:-0700
TZNAME:MST
DTSTART:20261101T080000
END:STANDARD
END:VTIMEZONE
BEGIN:VEVENT
DTSTART;TZID=America/Denver:20260422T143000
DTEND;TZID=America/Denver:20260422T153000
DTSTAMP:20260419T194757
CREATED:20260401T172719Z
LAST-MODIFIED:20260401T172719Z
UID:6228-1776868200-1776871800@eenm.org
SUMMARY:School Garden Success Panel
DESCRIPTION:April is National Garden Month and School Garden Month! At EENM\, we’re digging into the magic that teachers\, students\, and communities create when they grow campus gardens together. 🌱 \nReady to grow your own success? Join us April 22\, 2:30–3:30pm via Zoom for our School Garden Success panel. Get the inside scoop from educators who’ve turned school gardens into thriving green havens\, packed with tips\, tricks\, and real talk on overcoming garden hurdles. Register here\, bring your questions\, and let’s cultivate inspiration! \n 
URL:https://eenm.org/event/school-garden-success-panel/
CATEGORIES:Webinar
ATTACH;FMTTYPE=application/pdf:https://eenm.org/wp-content/uploads/2026/04/School-Garden-Success-Panel-Promotion-with-Link.pdf
ORGANIZER;CN="EENM":MAILTO:info@eeanm.org
END:VEVENT
END:VCALENDAR