﻿BEGIN:VCALENDAR
VERSION:2.0
PRODID:-//Environmental Education of New Mexico - ECPv6.13.2.1//NONSGML v1.0//EN
CALSCALE:GREGORIAN
METHOD:PUBLISH
X-WR-CALNAME:Environmental Education of New Mexico
X-ORIGINAL-URL:https://eenm.org
X-WR-CALDESC:Events for Environmental Education of New Mexico
REFRESH-INTERVAL;VALUE=DURATION:PT1H
X-Robots-Tag:noindex
X-PUBLISHED-TTL:PT1H
BEGIN:VTIMEZONE
TZID:America/Denver
BEGIN:DAYLIGHT
TZOFFSETFROM:-0700
TZOFFSETTO:-0600
TZNAME:MDT
DTSTART:20260308T090000
END:DAYLIGHT
BEGIN:STANDARD
TZOFFSETFROM:-0600
TZOFFSETTO:-0700
TZNAME:MST
DTSTART:20261101T080000
END:STANDARD
END:VTIMEZONE
BEGIN:VEVENT
DTSTART;TZID=America/Denver:20260131T090000
DTEND;TZID=America/Denver:20260131T150000
DTSTAMP:20260419T183137
CREATED:20260102T190706Z
LAST-MODIFIED:20260109T185510Z
UID:6103-1769850000-1769871600@eenm.org
SUMMARY:Water & AI in NM for Students (Community Event)
DESCRIPTION:On Saturday 10 January 2026 Bosque School (Albuquerque) is hosting a one day AI and Data Centers focused workshop\, specifically for young people\, especially high school students\, but other young people will be welcome too. Specifically it will be about exploring both the potential benefits of those facilities as well as their energy\, water\, and other environmental needs especially as they relate to competing interests in New Mexico including agriculture\, wildlife\, and fisheries. The workshop will involve hands-on and participatory opportunities for young people to learn about and form their own opinions about these topics.\n \nThis FREE event is from 9am – 3pm and lunch and snacks are provided. Any student can participate but the conversation and activities are geared towards a high school audience. To register\, email Kim.fike@bosqueschool.org.
URL:https://eenm.org/event/water-ai-in-nm-for-students/
LOCATION:Bosque School\, 4000 Bosque School Rd NW\, Albuquerque\, NM\, 87120\, United States
CATEGORIES:Workshop
END:VEVENT
END:VCALENDAR