﻿BEGIN:VCALENDAR
VERSION:2.0
PRODID:-//Environmental Education of New Mexico - ECPv6.13.2.1//NONSGML v1.0//EN
CALSCALE:GREGORIAN
METHOD:PUBLISH
X-WR-CALNAME:Environmental Education of New Mexico
X-ORIGINAL-URL:https://eenm.org
X-WR-CALDESC:Events for Environmental Education of New Mexico
REFRESH-INTERVAL;VALUE=DURATION:PT1H
X-Robots-Tag:noindex
X-PUBLISHED-TTL:PT1H
BEGIN:VTIMEZONE
TZID:America/Denver
BEGIN:DAYLIGHT
TZOFFSETFROM:-0700
TZOFFSETTO:-0600
TZNAME:MDT
DTSTART:20260308T090000
END:DAYLIGHT
BEGIN:STANDARD
TZOFFSETFROM:-0600
TZOFFSETTO:-0700
TZNAME:MST
DTSTART:20261101T080000
END:STANDARD
END:VTIMEZONE
BEGIN:VEVENT
DTSTART;TZID=America/Denver:20260226T140000
DTEND;TZID=America/Denver:20260226T160000
DTSTAMP:20260419T165757
CREATED:20260109T184410Z
LAST-MODIFIED:20260109T184410Z
UID:6127-1772114400-1772121600@eenm.org
SUMMARY:Seeds and Soil Workshop (Community Event)
DESCRIPTION:A virtual workshop for educators\, librarians\, and out-of-school time providers (2 CEU hours). \nCome learn how to plant seeds of STEM with your students! You’ll get your hands dirty and design your own seed through the engineering design process. You’ll immediately be able to apply these ideas with your students! \nRegister here: https://forms.gle/fMpHgAtFvKQ9eEvi9
URL:https://eenm.org/event/seeds-and-soil-workshop-community-event/
LOCATION:NM
CATEGORIES:Workshop
ATTACH;FMTTYPE=image/jpeg:https://eenm.org/wp-content/uploads/2026/01/UWNCNM-Seeds-and-Soil-2_26_26.pptx.jpg
END:VEVENT
END:VCALENDAR